BEGIN:VCALENDAR
VERSION:2.0
PRODID:-//eventon.com NONSGML v1.0//EN
CALSCALE:GREGORIAN
METHOD:PUBLISH
BEGIN:VEVENT
UID:69ed1fe140e01
DTSTAMP:20260425T201113Z
DTSTART:20260704T180000Z
DTEND:20260704T200000Z
LOCATION:HahnstÃ¤tten\,  Kreml Kulturhaus 8 Burgschwalbacher StraÃŸe\,  HahnstÃ¤tten\,  RP 65623\,  Germany
SUMMARY:HahnstÃ¤tten\,  Sofia Talvik â€“ Nordische Melancholie trifft American Folk
DESCRIPTION:Die gebÃ¼rtige Schwedin Sofia Talvik kehrt frisch von einer aus
 gedehnten US-Tournee mit 43 Konzerten nach Europa zurÃ¼ck und bringt ihre â
 €žCenter of the Universe Tour&#8220; nun nach Deutschland. Mit ihrer Musik 
 hat sie die ganze Welt bereist â€“ durch 49 US-Bundesstaaten\,  ganz Europa
  und bis nach Neuseeland. Auf ihrem neunten[..]\nhttps://folkerkalender.de/
 events/hahnstaetten-sofia-talvik-nordische-melancholie-trifft-american-folk
 /
URL:https://folkerkalender.de/events/hahnstaetten-sofia-talvik-nordische-melancholie-trifft-american-folk/
END:VEVENT
END:VCALENDAR