BEGIN:VCALENDAR
VERSION:2.0
PRODID:-//eventon.com NONSGML v1.0//EN
CALSCALE:GREGORIAN
METHOD:PUBLISH
BEGIN:VEVENT
UID:69ed2020d7593
DTSTAMP:20260425T201216Z
DTSTART:20260627T170000Z
DTEND:20260627T190000Z
LOCATION:Krummin\,  Naturhafen Krummin 24 DorfstraÃŸe\,  Krummin\,  MV 17440\,  Germany
SUMMARY:Krummin\,  Sofia Talvik â€“ Nordische Melancholie trifft American Folk
DESCRIPTION:Die gebÃ¼rtige Schwedin Sofia Talvik kehrt frisch von einer aus
 gedehnten US-Tournee mit 43 Konzerten nach Europa zurÃ¼ck und bringt ihre â
 €žCenter of the Universe Tour&#8220; nun nach Deutschland. Mit ihrer Musik 
 hat sie die ganze Welt bereist â€“ durch 49 US-Bundesstaaten\,  ganz Europa
  und bis nach Neuseeland. Auf ihrem neunten[..]\nhttps://folkerkalender.de/
 events/krummin-sofia-talvik-nordische-melancholie-trifft-american-folk/
URL:https://folkerkalender.de/events/krummin-sofia-talvik-nordische-melancholie-trifft-american-folk/
END:VEVENT
END:VCALENDAR