BEGIN:VCALENDAR
VERSION:2.0
PRODID:-//eventon.com NONSGML v1.0//EN
CALSCALE:GREGORIAN
METHOD:PUBLISH
BEGIN:VEVENT
UID:69ed2023eaa74
DTSTAMP:20260425T201219Z
DTSTART:20260626T160000Z
DTEND:20260626T180000Z
LOCATION:Stelle\,  St. Michaels-Kirchengemeinde  Kirchweg 4\,  21435\,  Stelle
SUMMARY:Stelle\,  Sofia Talvik â€“ Nordische Melancholie trifft American Folk
DESCRIPTION:Die gebÃ¼rtige Schwedin Sofia Talvik kehrt frisch von einer aus
 gedehnten US-Tournee mit 43 Konzerten nach Europa zurÃ¼ck und bringt ihre â
 €žCenter of the Universe Tour&#8220; nun nach Deutschland. Mit ihrer Musik 
 hat sie die ganze Welt bereist â€“ durch 49 US-Bundesstaaten\,  ganz Europa
  und bis nach Neuseeland. Auf ihrem neunten[..]\nhttps://folkerkalender.de/
 events/stelle-sofia-talvik-nordische-melancholie-trifft-american-folk/
URL:https://folkerkalender.de/events/stelle-sofia-talvik-nordische-melancholie-trifft-american-folk/
END:VEVENT
END:VCALENDAR