BEGIN:VCALENDAR
VERSION:2.0
PRODID:-//eventon.com NONSGML v1.0//EN
CALSCALE:GREGORIAN
METHOD:PUBLISH
BEGIN:VEVENT
UID:69ed1e2bc5af9
DTSTAMP:20260425T200355Z
DTSTART:20260520T180000Z
DTEND:20260520T200000Z
LOCATION:Bar Jeder Vernunft
SUMMARY:Svavar Knutur
DESCRIPTION:Wer einen Auftritt von Svavar Knutur schon miterleben durfte\, 
  wird sich noch lange daran erinnern. Seine Auftritte sind eine emotionale 
 Achterbahnfahrt zwischen zu Tränen gerührt bis vor Lachen weinend\,  die 
 einen in seinen Bann ziehen und nicht mehr so schnell wieder loslassen. Der
  isländische Singer/Songwriter und Entertainer Svavar Knútur ist[..]\nhtt
 ps://folkerkalender.de/events/svavar-knutur/
URL:https://folkerkalender.de/events/svavar-knutur/
END:VEVENT
END:VCALENDAR