BEGIN:VCALENDAR
VERSION:2.0
PRODID:-//eventon.com NONSGML v1.0//EN
CALSCALE:GREGORIAN
METHOD:PUBLISH
BEGIN:VEVENT
UID:69ed1e30ef90a
DTSTAMP:20260425T200400Z
DTSTART:20260428T180000Z
DTEND:20260428T110000Z
LOCATION:Wien\,  Haus der Musik
SUMMARY:Wien\,  Charm of Finches
DESCRIPTION:Wien\,  Charm of Finches\nhttps://folkerkalender.de/events/wien
 -charm-of-finches/
URL:https://folkerkalender.de/events/wien-charm-of-finches/
END:VEVENT
END:VCALENDAR