BEGIN:VCALENDAR
VERSION:2.0
PRODID:-//eventon.com NONSGML v1.0//EN
CALSCALE:GREGORIAN
METHOD:PUBLISH
BEGIN:VEVENT
UID:69ed1c9885ad7
DTSTAMP:20260425T195712Z
DTSTART:20260520T180000Z
DTEND:20260520T110000Z
LOCATION:Göttingen\,  Apex Burgstr. 46\,  37073 Göttingen
SUMMARY:Göttingen\,  Charm of Finches
DESCRIPTION:Göttingen\,  Charm of Finches\nhttps://folkerkalender.de/event
 s/goettingen-charm-of-finches/
URL:https://folkerkalender.de/events/goettingen-charm-of-finches/
END:VEVENT
END:VCALENDAR