BEGIN:VCALENDAR
VERSION:2.0
PRODID:-//eventon.com NONSGML v1.0//EN
CALSCALE:GREGORIAN
METHOD:PUBLISH
BEGIN:VEVENT
UID:69ed20292691f
DTSTAMP:20260425T201225Z
DTSTART:20260526T180000Z
DTEND:20260526T215900Z
LOCATION:Berlin\,  Prachtwerk Ganghoferstraße 2\,  12043 Berlin\,  Germany
SUMMARY:Berlin\,  Charm of Finches
DESCRIPTION:Charm of Finches sind das Schwestern-Duo Mabel und Ivy Windred-
 Wornes aus Melbourne. Sie liefern komplexen Folk-Pop\,  der gleichzeitig an
 mutig und düster-bezaubernd ist. Ihre perfekten Harmonien bewegen sich gle
 ichermaßen zwischen Melancholie und Zauber. Ihr viertes Album „Marlinche
 n In The Snow” (Spunk Records) wurde im ländlichen Nova Scotia aufgenomm
 en\,  inspiriert von der[..]\nhttps://folkerkalender.de/events/berlin-charm
 -of-finches/
URL:https://folkerkalender.de/events/berlin-charm-of-finches/
END:VEVENT
END:VCALENDAR