BEGIN:VCALENDAR
VERSION:2.0
PRODID:-//eventon.com NONSGML v1.0//EN
CALSCALE:GREGORIAN
METHOD:PUBLISH
BEGIN:VEVENT
UID:69ed1c506cbba
DTSTAMP:20260425T195600Z
DTSTART:20260724T170000Z
DTEND:20260724T203000Z
LOCATION:Eckernförde\,  St. Nicolai Kirche Kirchplatz 2\,  24340 Eckernförde\,  Eckernförde 24340\,  Eckernförde 24340
SUMMARY:Eckernförde\, St. Nicolai Kirche
DESCRIPTION:Eckernförde\, St. Nicolai Kirche\nhttps://folkerkalender.de/ev
 ents/eckernfoerdest-nicolai-kirche/
URL:https://folkerkalender.de/events/eckernfoerdest-nicolai-kirche/
END:VEVENT
END:VCALENDAR