BEGIN:VCALENDAR
VERSION:2.0
PRODID:-//eventon.com NONSGML v1.0//EN
CALSCALE:GREGORIAN
METHOD:PUBLISH
BEGIN:VEVENT
UID:69ed1c9e2d0cd
DTSTAMP:20260425T195718Z
DTSTART:20260722T173000Z
DTEND:20260722T203000Z
LOCATION:Poel\,  Kirchengemeinde 9 Möwenweg\,  Insel Poel\,  MV 23999\,  Deutschland\,  Insel Poel\,  MV 23999\,  Deutschland
SUMMARY:Poel\,  Kirchdorf
DESCRIPTION:Poel\,  Kirchdorf\nhttps://folkerkalender.de/events/poel-kirchd
 orf/
URL:https://folkerkalender.de/events/poel-kirchdorf/
END:VEVENT
END:VCALENDAR