BEGIN:VCALENDAR
VERSION:2.0
PRODID:-//eventon.com NONSGML v1.0//EN
CALSCALE:GREGORIAN
METHOD:PUBLISH
BEGIN:VEVENT
UID:69ed1e7985deb
DTSTAMP:20260425T200513Z
DTSTART:20260825T180000Z
DTEND:20260825T193000Z
LOCATION:Wustrow\,  Evangelische Kirche 2 Hafenstraße\,  Wustrow\,  MV 18347\,  Deutschland
SUMMARY:Wustrow\,  Mit 3 Orgeln und 2 Saxophonen um die Welt
DESCRIPTION:Normal 0 21 MicrosoftInternetExplorer4 /* Style Definitions */ 
 table.MsoNormalTable {mso-style-name:&#8220;Normale Tabelle&#8220;; mso-tst
 yle-rowband-size:0; mso-tstyle-colband-size:0; mso-style-noshow:yes; mso-st
 yle-parent:&#8220;&#8220;; mso-padding-alt:0cm 5.4pt 0cm 5.4pt; mso-para-ma
 rgin:0cm; mso-para-margin-bottom:.0001pt; mso-pagination:widow-orphan; font
 -size:10.0pt; font-family:&#8220;Times New Roman&#8220;; mso-fareast-font-f
 amily:&#8220;Times New Roman&#8220;;} Eine spannende musikalische Reise dur
 ch unterschiedliche Zeiten und Stile &nbsp; Volker Jaekel: Orgel\,  Portati
 v (tragbare\,  mittelalterliche Orgel) Gert Anklam: Saxophone\,  Sheng[..]\
 nhttps://folkerkalender.de/events/wustrow-mit-3-orgeln-und-2-saxophonen-um-
 die-welt/
URL:https://folkerkalender.de/events/wustrow-mit-3-orgeln-und-2-saxophonen-um-die-welt/
END:VEVENT
END:VCALENDAR