BEGIN:VCALENDAR
VERSION:2.0
PRODID:-//eventon.com NONSGML v1.0//EN
CALSCALE:GREGORIAN
METHOD:PUBLISH
BEGIN:VEVENT
UID:69ed1e79593fd
DTSTAMP:20260425T200513Z
DTSTART:20260801T180000Z
DTEND:20260801T071300Z
LOCATION:Neuhäusel\,  Evangelische Erlöserkirche Kirchstraße 2\,  56335 Neuhäusel
SUMMARY:Neuhäusel\,  Goitse - ansteckender\,  energiegeladener Irish Folk
DESCRIPTION:Die preisgekrönte Irish-Folk-Band Goitse gehört zweifellos zu
  den herausragenden Vertreterinnen ihres Genres weltweit. Seit nunmehr 15 J
 ahren tourt die Band um den Globus und begeistert ihr Publikum mit ihrer un
 verkennbaren Mischung aus eigenen Kompositionen und zeitlosen\,  traditione
 llen Melodien. Mit diesem charakteristischen Sound – durchzogen von feine
 n Worldmusic-Einflüssen – haben die[..]\nhttps://folkerkalender.de/event
 s/neuhaeusel-goitse-ansteckender-energiegeladener-irish-folk/
URL:https://folkerkalender.de/events/neuhaeusel-goitse-ansteckender-energiegeladener-irish-folk/
END:VEVENT
END:VCALENDAR