BEGIN:VCALENDAR
VERSION:2.0
PRODID:-//eventon.com NONSGML v1.0//EN
CALSCALE:GREGORIAN
METHOD:PUBLISH
BEGIN:VEVENT
UID:69ed1e30ba0aa
DTSTAMP:20260425T200400Z
DTSTART:20260730T173000Z
DTEND:20260730T215900Z
LOCATION:Kaufungen\,  Stiftshof Zur schönen Aussicht\,  34260 Kaufungen
SUMMARY:Kaufungen\,  Cara - Our Ship Is Ready Tour
DESCRIPTION:CARA &#8211; A New Breeze in Irish Music Die multinationale\,  
 mit zwei Irish Music Awards und zahlreichen weiteren Preisen ausgezeichnete
  Celtic Folk-Band tourt seit 2003 und bis heute spielt Freundschaft neben d
 er gemeinsamen Liebe zur traditionellen Musik Irlands und Schottlands eine 
 zentrale Rolle in der Band. Vom Opener bis zur[..]\nhttps://folkerkalender.
 de/events/kaufungen-cara-our-ship-is-ready-tour/
URL:https://folkerkalender.de/events/kaufungen-cara-our-ship-is-ready-tour/
END:VEVENT
END:VCALENDAR