BEGIN:VCALENDAR
VERSION:2.0
PRODID:-//eventon.com NONSGML v1.0//EN
CALSCALE:GREGORIAN
METHOD:PUBLISH
BEGIN:VEVENT
UID:69ed1e6f565de
DTSTAMP:20260425T200503Z
DTSTART:20260614T150000Z
DTEND:20260614T215900Z
LOCATION:Leer\,  Willy-Brandt-Platz (Gezeitenkonzerte) Willy-Brandt-Platz\,  Am alten Handelshafen 1\,  26789 Leer
SUMMARY:Leer\,  Cara - Our Ship Is Ready Tour
DESCRIPTION:CARA &#8211; A New Breeze in Irish Music Die multinationale\,  
 mit zwei Irish Music Awards und zahlreichen weiteren Preisen ausgezeichnete
  Celtic Folk-Band tourt seit 2003 und bis heute spielt Freundschaft neben d
 er gemeinsamen Liebe zur traditionellen Musik Irlands und Schottlands eine 
 zentrale Rolle in der Band. Vom Opener bis zur[..]\nhttps://folkerkalender.
 de/events/leer-cara-our-ship-is-ready-tour/
URL:https://folkerkalender.de/events/leer-cara-our-ship-is-ready-tour/
END:VEVENT
END:VCALENDAR