BEGIN:VCALENDAR
VERSION:2.0
PRODID:-//eventon.com NONSGML v1.0//EN
CALSCALE:GREGORIAN
METHOD:PUBLISH
BEGIN:VEVENT
UID:69ed1e7467b66
DTSTAMP:20260425T200508Z
DTSTART:20260528T173000Z
DTEND:20260528T215900Z
LOCATION:Hamburg-Osdorf\,  Kirche St. Simeon DÃ¶rpfeldstraÃŸe 58\,  22609 Hamburg (Alt-Osdorf)\,  Deutschland
SUMMARY:Hamburg\,  VÃ„SEN â€“ AushÃ¤ngeschild der skandinavischen Folkmusik
DESCRIPTION:VÃ„SEN &#8211; AushÃ¤ngeschild der skandinavischen Folkmusik VÃ
 ¤sen spielen schwedische Instrumentalmusik wie traditionelle Polskas\,  abe
 r auch viele exzellente Eigenkompositionen. AusgeklÃ¼gelte Arrangements und
  das intensive Zusammenspiel der beiden Musiker machen die Musik von VÃ¤sen
  so einmalig und faszinierend. VÃ¤sens BÃ¼hnen-Performance fuÃŸt auf kunstv
 oll durcharrangierten Melodien\,  die immer noch genug Platz fÃ¼r Improvisa
 tionen[..]\nhttps://folkerkalender.de/events/hamburg-vaesen-aushaengeschild
 -der-skandinavischen-folkmusik/
URL:https://folkerkalender.de/events/hamburg-vaesen-aushaengeschild-der-skandinavischen-folkmusik/
END:VEVENT
END:VCALENDAR