BEGIN:VCALENDAR
VERSION:2.0
PRODID:-//eventon.com NONSGML v1.0//EN
CALSCALE:GREGORIAN
METHOD:PUBLISH
BEGIN:VEVENT
UID:69ed1e6f566e3
DTSTAMP:20260425T200503Z
DTSTART:20260726T173000Z
DTEND:20260726T200000Z
LOCATION:Zinnowitz\,  Das Gelbe Theater "Die Blechbüchse" Seestraße 8\,  17454 Zinnowitz\,  Zinnowitz 17454
SUMMARY:Zinnowitz\,  Keimzeit – Tour „Ach\,  die Menschen“
DESCRIPTION:Sonntag\,  26.07.2026 Einlass: 18.30 Uhr Beginn: 19.30 Uhr Blec
 hbüchse &#8211; Das gelbe Theater in Zinnowitz\nhttps://folkerkalender.de/
 events/zinnowitz-keimzeit-tour-ach-die-menschen/
URL:https://folkerkalender.de/events/zinnowitz-keimzeit-tour-ach-die-menschen/
END:VEVENT
END:VCALENDAR