BEGIN:VCALENDAR
VERSION:2.0
PRODID:-//eventon.com NONSGML v1.0//EN
CALSCALE:GREGORIAN
METHOD:PUBLISH
BEGIN:VEVENT
UID:69ed202415a2d
DTSTAMP:20260425T201220Z
DTSTART:20260711T170000Z
DTEND:20260711T183000Z
LOCATION:Lauenburg\,  Maria-Magdalenen-Kirche 3 Kirchplatz\,  Lauenburg/Elbe\,  SH 21481\,  Deutschland
SUMMARY:Lauenburg\,  Liquid Soul „Musik aus Luft und Wasser“
DESCRIPTION:Normal 0 21 MicrosoftInternetExplorer4 /* Style Definitions */ 
 table.MsoNormalTable {mso-style-name:&#8220;Normale Tabelle&#8220;; mso-tst
 yle-rowband-size:0; mso-tstyle-colband-size:0; mso-style-noshow:yes; mso-st
 yle-parent:&#8220;&#8220;; mso-padding-alt:0cm 5.4pt 0cm 5.4pt; mso-para-ma
 rgin:0cm; mso-para-margin-bottom:.0001pt; mso-pagination:widow-orphan; font
 -size:10.0pt; font-family:&#8220;Times New Roman&#8220;;} Konzert im Rahmen
  der Konzertreihe &#8222;Klang im ewigen Garten&#8220;&nbsp; mit Gert Ankla
 m (Saxophone\,  Wasserstichorgel\,  Aquarion) und Beate Gatscha (Wasserstic
 horgel\,  Hang\,  Gong\,  Aquarion) Wasser –[..]\nhttps://folkerkalender.
 de/events/lauenburg-liquid-soul-musik-aus-luft-und-wasser/
URL:https://folkerkalender.de/events/lauenburg-liquid-soul-musik-aus-luft-und-wasser/
END:VEVENT
END:VCALENDAR