BEGIN:VCALENDAR
VERSION:2.0
PRODID:-//eventon.com NONSGML v1.0//EN
CALSCALE:GREGORIAN
METHOD:PUBLISH
BEGIN:VEVENT
UID:69ed201f3cad2
DTSTAMP:20260425T201215Z
DTSTART:20260616T170000Z
DTEND:20260616T215900Z
LOCATION:Herdecke\,  Gemeinschaftskrankenhaus 4 Gerhard-Kienle-Weg\,  Herdecke\,  NRW 58313\,  Deutschland
SUMMARY:Herdecke\,  Tangoyim\,  Klezmerkonzert in der Klinik
DESCRIPTION:Herdecke\,  Tangoyim\,  Klezmerkonzert in der Klinik\nhttps://f
 olkerkalender.de/events/herdecke-tangoyim-klezmerkonzert-in-der-klinik/
URL:https://folkerkalender.de/events/herdecke-tangoyim-klezmerkonzert-in-der-klinik/
END:VEVENT
END:VCALENDAR