BEGIN:VCALENDAR
VERSION:2.0
PRODID:-//eventon.com NONSGML v1.0//EN
CALSCALE:GREGORIAN
METHOD:PUBLISH
BEGIN:VEVENT
UID:69ed21b6e717a
DTSTAMP:20260425T201902Z
DTSTART:20260627T163000Z
DTEND:20260627T204500Z
LOCATION:Erfurt\,  Kultur: Haus Dacheröden 37 Anger\,  Erfurt\,  TH 99084\,  Deutschland\,  Erfurt\,  TH 99084\,  Deutschland
SUMMARY:Erfurt\,  13. Lange Nacht des Klezmer Erfurt | Kultur: Haus Dacheröden
DESCRIPTION:Seit 2012 verwandelt die Lange Nacht des Klezmer Erfurt die Sta
 dt in ein Spielfeld für jüdische Musik: Regionale und überregionale Ense
 mbles liefern an einem Abend ein Feuerwerk aus Klezmer-Klängen.&nbsp; Zur 
 13. Langen Nacht des Klezmer bringen Herje Mine (Leipzig)\,  Helmut Eisel (
 Saarbrücken) &amp; The String Company (Erfurt) Klezmer als universelle[..]
 \nhttps://folkerkalender.de/events/erfurt-13-lange-nacht-des-klezmer-erfurt
 -kultur-haus-dacheroeden/
URL:https://folkerkalender.de/events/erfurt-13-lange-nacht-des-klezmer-erfurt-kultur-haus-dacheroeden/
END:VEVENT
END:VCALENDAR