BEGIN:VCALENDAR
VERSION:2.0
PRODID:-//eventon.com NONSGML v1.0//EN
CALSCALE:GREGORIAN
METHOD:PUBLISH
BEGIN:VEVENT
UID:69e73426d9aef
DTSTAMP:20260421T082406Z
DTSTART:20270220T170000Z
DTEND:20270220T225900Z
LOCATION:Düsseldorf\,  Dankeskirche Weststraße 26\,  40597 Düsseldorf\,  NRW\,  Deutschland
SUMMARY:Düsseldorf\,  Musikalische Vesper mit Tangoyim
DESCRIPTION:Düsseldorf\,  Musikalische Vesper mit Tangoyim\nhttps://folker
 kalender.de/events/duesseldorf-musikalische-vesper-mit-tangoyim/
URL:https://folkerkalender.de/events/duesseldorf-musikalische-vesper-mit-tangoyim/
END:VEVENT
END:VCALENDAR