BEGIN:VCALENDAR
VERSION:2.0
PRODID:-//eventon.com NONSGML v1.0//EN
CALSCALE:GREGORIAN
METHOD:PUBLISH
BEGIN:VEVENT
UID:69ed21faa6990
DTSTAMP:20260425T202010Z
DTSTART:20260509T170000Z
DTEND:20260509T190000Z
LOCATION:Oldenswort\,  Herrenhaus Hoyerswort Kotzenbüller Chaussee 2\,  25870 Oldenswort
SUMMARY:Hoyerswort\,  Trio Schmarowotsnik – Neue jiddische Lieder und Klesmer
DESCRIPTION:Tom Waits oder Velvet Underground auf jiddisch? Das Kieler Duo 
 Schmarowotsnik\,  bekannt als Spezialist für Neue Jiddische Lieder\,  komm
 t diesmal zu dritt nach Hoyerswort: Zu Christine v. Bülow (Oboe / Englisch
 horn) und Martin Quetsche (Akkordeon) gesellt sich Jule Schwarz mit ihrer G
 eige. Seit über 25 Jahren spielen die drei auch[..]\nhttps://folkerkalende
 r.de/events/hoyerswort-trio-schmarowotsnik-neue-jiddische-lieder-und-klesme
 r/
URL:https://folkerkalender.de/events/hoyerswort-trio-schmarowotsnik-neue-jiddische-lieder-und-klesmer/
END:VEVENT
END:VCALENDAR