BEGIN:VCALENDAR
VERSION:2.0
PRODID:-//eventon.com NONSGML v1.0//EN
CALSCALE:GREGORIAN
METHOD:PUBLISH
BEGIN:VEVENT
UID:69ed21ab9e288
DTSTAMP:20260425T201851Z
DTSTART:20260509T180000Z
DTEND:20260509T190000Z
LOCATION:Norderney\,  Inselkirche Kirchstraße 11\,  26548 Norderney
SUMMARY:Norderney\,  Planxties & Airs
DESCRIPTION:Normal 0 false 21 false false false DE X-NONE X-NONE /* Style D
 efinitions */ table.MsoNormalTable {mso-style-name:&#8220;Normale Tabelle&#
 8220;; mso-tstyle-rowband-size:0; mso-tstyle-colband-size:0; mso-style-nosh
 ow:yes; mso-style-priority:99; mso-style-parent:&#8220;&#8220;; mso-padding
 -alt:0cm 5.4pt 0cm 5.4pt; mso-para-margin-top:0cm; mso-para-margin-right:0c
 m; mso-para-margin-bottom:10.0pt; mso-para-margin-left:0cm; line-height:115
 %; mso-pagination:widow-orphan; font-size:11.0pt; font-family:&#8220;Calibr
 i&#8220;\, sans-serif; mso-ascii-font-family:Calibri; mso-ascii-theme-font:
 minor-latin; mso-hansi-font-family:Calibri; mso-hansi-theme-font:minor-lati
 n; mso-bidi-font-family:&#8220;Times New Roman&#8220;; mso-bidi-theme-font:
 minor-bidi; mso-fareast-language:EN-US;} Ulrike von Weiß (Orgel) und Claus
  von[..]\nhttps://folkerkalender.de/events/norderney-planxties-airs/
URL:https://folkerkalender.de/events/norderney-planxties-airs/
END:VEVENT
END:VCALENDAR