BEGIN:VCALENDAR
VERSION:2.0
PRODID:-//eventon.com NONSGML v1.0//EN
CALSCALE:GREGORIAN
METHOD:PUBLISH
BEGIN:VEVENT
UID:69ed21a3f14d0
DTSTAMP:20260425T201843Z
DTSTART:20260616T160000Z
DTEND:20260616T140000Z
LOCATION:Hamm\,  Kulturbahnhof Hamm Willy-Brandt-Platz 1d\,  D-59065 Hamm
SUMMARY:Hamm\,  Klangkosmos NRW : Kolumbien
DESCRIPTION:Das kolumbianische Trio der Geschwister Natalia\,  Sebastián u
 nd Sergio Castrillón unternimmt mit Harfe\,  Celli und Gesang eine faszini
 erende Klangreise durch Lateinamerika. Inspiriert von Elementen globaler Kl
 anglandschaften und lateinamerikanischem Folk sowie von klassischer und imp
 rovisierter Musik spielt das Trio Originalkompositionen: das Traditionelle 
 trifft auf das Experimentelle!&nbsp; &nbsp;&nbsp;Natalia Castrillón ist ei
 ne vielseitige\, [..]\nhttps://folkerkalender.de/events/hamm-klangkosmos-nr
 w-kolumbien/
URL:https://folkerkalender.de/events/hamm-klangkosmos-nrw-kolumbien/
END:VEVENT
END:VCALENDAR