BEGIN:VCALENDAR
VERSION:2.0
PRODID:-//eventon.com NONSGML v1.0//EN
CALSCALE:GREGORIAN
METHOD:PUBLISH
BEGIN:VEVENT
UID:69ed215bd1432
DTSTAMP:20260425T201731Z
DTSTART:20260614T160000Z
DTEND:20260614T140000Z
LOCATION:Paderborn\,  Schloss Neuhaus Residenzstraße 2\,  33104 Paderborn
SUMMARY:Paderborn\,  Klangkosmos NRW : Kolumbien
DESCRIPTION:Das kolumbianische Trio der Geschwister Natalia\,  Sebastián u
 nd Sergio Castrillón unternimmt mit Harfe\,  Celli und Gesang eine faszini
 erende Klangreise durch Lateinamerika. Inspiriert von Elementen globaler Kl
 anglandschaften und lateinamerikanischem Folk sowie von klassischer und imp
 rovisierter Musik spielt das Trio Originalkompositionen: das Traditionelle 
 trifft auf das Experimentelle!&nbsp; &nbsp;&nbsp;Natalia Castrillón ist ei
 ne vielseitige\, [..]\nhttps://folkerkalender.de/events/paderborn-klangkosm
 os-nrw-kolumbien/
URL:https://folkerkalender.de/events/paderborn-klangkosmos-nrw-kolumbien/
END:VEVENT
END:VCALENDAR