BEGIN:VCALENDAR
VERSION:2.0
PRODID:-//eventon.com NONSGML v1.0//EN
CALSCALE:GREGORIAN
METHOD:PUBLISH
BEGIN:VEVENT
UID:69ed2158aabd4
DTSTAMP:20260425T201728Z
DTSTART:20260613T150000Z
DTEND:20260613T140000Z
LOCATION:Siegen\,  Zeltarena im Schlosspark Höhstraße 43\,  57072 Siegen\,  Deutschland\,  Siegen\,  NRW 57072\,  DE\,  Siegen\,  NRW 57072\,  DE
SUMMARY:Siegen\,  Klangkosmos NRW : Kolumbien
DESCRIPTION:Das kolumbianische Trio der Geschwister Natalia\,  Sebastián u
 nd Sergio Castrillón unternimmt mit Harfe\,  Celli und Gesang eine faszini
 erende Klangreise durch Lateinamerika. Inspiriert von Elementen globaler Kl
 anglandschaften und lateinamerikanischem Folk sowie von klassischer und imp
 rovisierter Musik spielt das Trio Originalkompositionen: das Traditionelle 
 trifft auf das Experimentelle!&nbsp; &nbsp;&nbsp;Natalia Castrillón ist ei
 ne vielseitige\, [..]\nhttps://folkerkalender.de/events/siegen-klangkosmos-
 nrw-kolumbien/
URL:https://folkerkalender.de/events/siegen-klangkosmos-nrw-kolumbien/
END:VEVENT
END:VCALENDAR