BEGIN:VCALENDAR
VERSION:2.0
PRODID:-//eventon.com NONSGML v1.0//EN
CALSCALE:GREGORIAN
METHOD:PUBLISH
BEGIN:VEVENT
UID:69ed21a1111f3
DTSTAMP:20260425T201841Z
DTSTART:20260607T150000Z
DTEND:20260607T140000Z
LOCATION:Brilon\,  Evangelische Stadtkirche Brilon Kreuziger Mauer 2\,  59929 Brilon\,  Deutschland\,  Brilon\,  NRW 59929\,  Brilon\,  NRW 59929\,  Deutschland
SUMMARY:Brilon\,  Klangkosmos NRW : Kolumbien
DESCRIPTION:Das kolumbianische Trio der Geschwister Natalia\,  Sebastián u
 nd Sergio Castrillón unternimmt mit Harfe\,  Celli und Gesang eine faszini
 erende Klangreise durch Lateinamerika. Inspiriert von Elementen globaler Kl
 anglandschaften und lateinamerikanischem Folk sowie von klassischer und imp
 rovisierter Musik spielt das Trio Originalkompositionen: das Traditionelle 
 trifft auf das Experimentelle!&nbsp; &nbsp;&nbsp;Natalia Castrillón ist ei
 ne vielseitige\, [..]\nhttps://folkerkalender.de/events/brilon-klangkosmos-
 nrw-kolumbien/
URL:https://folkerkalender.de/events/brilon-klangkosmos-nrw-kolumbien/
END:VEVENT
END:VCALENDAR