BEGIN:VCALENDAR
VERSION:2.0
PRODID:-//eventon.com NONSGML v1.0//EN
CALSCALE:GREGORIAN
METHOD:PUBLISH
BEGIN:VEVENT
UID:69ed214ee62a9
DTSTAMP:20260425T201718Z
DTSTART:20260603T183000Z
DTEND:20260603T130000Z
LOCATION:Düsseldorf\,  Jazz Schmiede Himmelgeister Straße 107g Eingang: Ulenbergstr.\,  D-40225 Düsseldorf
SUMMARY:Düsseldorf\,  Klangkosmos NRW : Kolumbien
DESCRIPTION:Das kolumbianische Trio der Geschwister Natalia\,  Sebastián u
 nd Sergio Castrillón unternimmt mit Harfe\,  Celli und Gesang eine faszini
 erende Klangreise durch Lateinamerika. Inspiriert von Elementen globaler Kl
 anglandschaften und lateinamerikanischem Folk sowie von klassischer und imp
 rovisierter Musik spielt das Trio Originalkompositionen: das Traditionelle 
 trifft auf das Experimentelle!&nbsp; &nbsp;&nbsp;Natalia Castrillón ist ei
 ne vielseitige\, [..]\nhttps://folkerkalender.de/events/duesseldorf-klangko
 smos-nrw-kolumbien/
URL:https://folkerkalender.de/events/duesseldorf-klangkosmos-nrw-kolumbien/
END:VEVENT
END:VCALENDAR