BEGIN:VCALENDAR
VERSION:2.0
PRODID:-//eventon.com NONSGML v1.0//EN
CALSCALE:GREGORIAN
METHOD:PUBLISH
BEGIN:VEVENT
UID:69ed1fdd07222
DTSTAMP:20260425T201109Z
DTSTART:20260508T183000Z
DTEND:20260508T215900Z
LOCATION:Kelkheim\,  Jazzclub Rotlintallee 2\,  65779 Kelkheim (Taunus)
SUMMARY:Kelkheim\,  Peter Autschbach
DESCRIPTION:Wenn Peter Autschbach zur Gitarre greift\,  ist Genuss garantie
 rt. Seine internationalen Workshops sind ausgebucht\,  seine Lehrbücher si
 nd überaus erfolgreich und seine ebenso zahlreichen wie brillanten Komposi
 tionen bereichern die Gitarren-Szene. Im Dezember 2019 gewann er im Duo mit
  der Sängerin Samira Saygili den Hauptpreis „Deutscher Singer Preis“ u
 nd eine Auszeichnung in[..]\nhttps://folkerkalender.de/events/kelkheim-pete
 r-autschbach/
URL:https://folkerkalender.de/events/kelkheim-peter-autschbach/
END:VEVENT
END:VCALENDAR