BEGIN:VCALENDAR
VERSION:2.0
PRODID:-//eventon.com NONSGML v1.0//EN
CALSCALE:GREGORIAN
METHOD:PUBLISH
BEGIN:VEVENT
UID:69ed202a8386f
DTSTAMP:20260425T201226Z
DTSTART:20260425T170000Z
DTEND:20260425T203000Z
LOCATION:Coppenbrügge\,  Kirchengemeinde St. Nicolai Niederstraße 11\,  31863 Coppenbrügge\,  NDS\,  Deutschland
SUMMARY:Annett Kuhr & Sue Sheehan
DESCRIPTION:Annett Kuhr &amp; Sue Sheehan\nhttps://folkerkalender.de/events
 /annett-kuhr-sue-sheehan-2/
URL:https://folkerkalender.de/events/annett-kuhr-sue-sheehan-2/
END:VEVENT
END:VCALENDAR