BEGIN:VCALENDAR
VERSION:2.0
PRODID:-//eventon.com NONSGML v1.0//EN
CALSCALE:GREGORIAN
METHOD:PUBLISH
BEGIN:VEVENT
UID:69ed1c506cb7a
DTSTAMP:20260425T195600Z
DTSTART:20260729T173000Z
DTEND:20260729T215900Z
LOCATION:Hamminkeln\,  Marienthaler Abende @ Kulturwiese An der Klosterkirche 16\,  46499 Hamminkeln
SUMMARY:Hamminkeln\,  Cara - Our Ship Is Ready Tour
DESCRIPTION:CARA &#8211; A New Breeze in Irish Music Die multinationale\,  
 mit zwei Irish Music Awards und zahlreichen weiteren Preisen ausgezeichnete
  Celtic Folk-Band tourt seit 2003 und bis heute spielt Freundschaft neben d
 er gemeinsamen Liebe zur traditionellen Musik Irlands und Schottlands eine 
 zentrale Rolle in der Band. Vom Opener bis zur[..]\nhttps://folkerkalender.
 de/events/hamminkeln-cara-our-ship-is-ready-tour/
URL:https://folkerkalender.de/events/hamminkeln-cara-our-ship-is-ready-tour/
END:VEVENT
END:VCALENDAR