BEGIN:VCALENDAR
VERSION:2.0
PRODID:-//eventon.com NONSGML v1.0//EN
CALSCALE:GREGORIAN
METHOD:PUBLISH
BEGIN:VEVENT
UID:69ed1c55474da
DTSTAMP:20260425T195605Z
DTSTART:20260726T180000Z
DTEND:20260726T215900Z
LOCATION:Würselen\,  Burg Wilhelmstein Am Wilhelmstein\,  52146 Würselen
SUMMARY:Würselen\,  Cara - Our Ship Is Ready Tour
DESCRIPTION:CARA &#8211; A New Breeze in Irish Music Die multinationale\,  
 mit zwei Irish Music Awards und zahlreichen weiteren Preisen ausgezeichnete
  Celtic Folk-Band tourt seit 2003 und bis heute spielt Freundschaft neben d
 er gemeinsamen Liebe zur traditionellen Musik Irlands und Schottlands eine 
 zentrale Rolle in der Band. Vom Opener bis zur[..]\nhttps://folkerkalender.
 de/events/wuerselen-cara-our-ship-is-ready-tour/
URL:https://folkerkalender.de/events/wuerselen-cara-our-ship-is-ready-tour/
END:VEVENT
END:VCALENDAR