BEGIN:VCALENDAR
VERSION:2.0
PRODID:-//eventon.com NONSGML v1.0//EN
CALSCALE:GREGORIAN
METHOD:PUBLISH
BEGIN:VEVENT
UID:69ed1c9e23e9b
DTSTAMP:20260425T195718Z
DTSTART:20260616T180000Z
DTEND:20260616T215900Z
LOCATION:Borkum\,  Kulturinsel Goetherstraße 25\,  26757 Borkum
SUMMARY:Borkum\,  Cara - Our Ship Is Ready Tour
DESCRIPTION:CARA &#8211; A New Breeze in Irish Music Die multinationale\,  
 mit zwei Irish Music Awards und zahlreichen weiteren Preisen ausgezeichnete
  Celtic Folk-Band tourt seit 2003 und bis heute spielt Freundschaft neben d
 er gemeinsamen Liebe zur traditionellen Musik Irlands und Schottlands eine 
 zentrale Rolle in der Band. Vom Opener bis zur[..]\nhttps://folkerkalender.
 de/events/borkum-cara-our-ship-is-ready-tour/
URL:https://folkerkalender.de/events/borkum-cara-our-ship-is-ready-tour/
END:VEVENT
END:VCALENDAR