BEGIN:VCALENDAR
VERSION:2.0
PRODID:-//eventon.com NONSGML v1.0//EN
CALSCALE:GREGORIAN
METHOD:PUBLISH
BEGIN:VEVENT
UID:69ed215a58dff
DTSTAMP:20260425T201730Z
DTSTART:20260425T180000Z
DTEND:20260425T215900Z
LOCATION:Dachau\,  Altes Kino der KKD Sudetenlandstraße 63\,  85221 Dachau\,  BY\,  Germany
SUMMARY:Dachau\,  Christina Martin
DESCRIPTION:The Essentials Tour (Deutschland 2026)&nbsp; Über einen Zeitra
 um von mehr als 10 Jahren ist für die kanadische Singer-Songwriterin Chris
 tina Martin Deutschland eins ihrer wichtigsten Auftrittsländer geworden. S
 eit 2011 hat sie hier Hunderte von Konzerten gespielt und das Land auch als
  Basis genutzt\,  um ihr Fan-Basis in den Nachbarregionen ständig zu[..]\n
 https://folkerkalender.de/events/dachau-christina-martin/
URL:https://folkerkalender.de/events/dachau-christina-martin/
END:VEVENT
END:VCALENDAR