BEGIN:VCALENDAR
VERSION:2.0
PRODID:-//eventon.com NONSGML v1.0//EN
CALSCALE:GREGORIAN
METHOD:PUBLISH
BEGIN:VEVENT
UID:69ed215078e06
DTSTAMP:20260425T201720Z
DTSTART:20260618T160000Z
DTEND:20260621T120000Z
LOCATION:Schwabhausen\,  Landgasthof Schwabhausen Wechmarer Str. 4\,  99869 Schwabhausen
SUMMARY:Schwabhausen\,  Mittsommer – Spielkurs mit traditionellem schwedischen Mittsommerfest
DESCRIPTION:Der Landgasthof Schwabhausen wird zum Mittelpunkt des schwedisc
 hen Mittsommers. Neben unseren bewährten Hümmelchenkursen für Anfänger 
 bis Fortgeschrittene kommen auch Musizierende anderer Instrumente im Ensemb
 lekurs auf ihre Kosten. Die Workshops umrahmen das am 20.6.26 ab 16 Uhr sta
 ttfindende Mittsommerfest mit traditionellen Bräuchen\,  Tänzen\,  Gerich
 ten und Musikeinlagen\,  das wir gemeinsam mit dem[..]\nhttps://folkerkalen
 der.de/events/schwabhausen-mittsommer-spielkurs-mit-traditionellem-schwedis
 chen-mittsommerfest/
URL:https://folkerkalender.de/events/schwabhausen-mittsommer-spielkurs-mit-traditionellem-schwedischen-mittsommerfest/
END:VEVENT
END:VCALENDAR