BEGIN:VCALENDAR
VERSION:2.0
PRODID:-//eventon.com NONSGML v1.0//EN
CALSCALE:GREGORIAN
METHOD:PUBLISH
BEGIN:VEVENT
UID:69ed21a305ca2
DTSTAMP:20260425T201843Z
DTSTART:20260530T173000Z
DTEND:20260530T200000Z
LOCATION:Freyburg (Unstrut)\,  Freyburg Auf dem Gut 2\,  06632 Freyburg (Unstrut)\,  SA\,  Deutschland\,  Freyburg (Unstrut)\,  SA 06632\,  Deutschland
SUMMARY:Freyburg/Zscheiplitz\,  Keimzeit Tour "Ach\,  die Menschen"
DESCRIPTION:Weingut Pawis&nbsp; Auf dem Gut 206632 Freyburg/OT Zscheiplitz 
 Einlass: 18.30 Uhr Beginn: 19.30 Uhr\nhttps://folkerkalender.de/events/frey
 burg-keimzeit-2026-die-tour-zum-neuen-album/
URL:https://folkerkalender.de/events/freyburg-keimzeit-2026-die-tour-zum-neuen-album/
END:VEVENT
END:VCALENDAR