BEGIN:VCALENDAR
VERSION:2.0
PRODID:-//eventon.com NONSGML v1.0//EN
CALSCALE:GREGORIAN
METHOD:PUBLISH
BEGIN:VEVENT
UID:69ed1fe2b6ad9
DTSTAMP:20260425T201114Z
DTSTART:20260606T180000Z
DTEND:20260606T215900Z
LOCATION:Lichterfeld\,  F60 Celtic Festival Bergheider Str. 4\,  03238 Lichterfeld-Schacksdorf
SUMMARY:Lichterfeld-Schacksdorf\,  LUAS
DESCRIPTION:LUAS ist ein Celtic Folk Fusion Kollektiv mit Musikern\,  die e
 ine Vielfalt an unterschiedlichsten musikalischen Hintergründen mitbringen
  unter der Leitung des irischen Sängers und Multiinstrumentalisten Brian H
 aitz. Sie sind in der irischen und schottischen Tradition verwurzelt\,  abe
 r der Sound macht Abstecher in Pop\,  World\,  Rock und Jazz. So entsteht e
 ine[..]\nhttps://folkerkalender.de/events/lichterfeld-schacksdorf-luas/
URL:https://folkerkalender.de/events/lichterfeld-schacksdorf-luas/
END:VEVENT
END:VCALENDAR