BEGIN:VCALENDAR
VERSION:2.0
PRODID:-//eventon.com NONSGML v1.0//EN
CALSCALE:GREGORIAN
METHOD:PUBLISH
BEGIN:VEVENT
UID:69e73532895b1
DTSTAMP:20260421T082834Z
DTSTART:20261017T180000Z
DTEND:20261017T200000Z
LOCATION:
SUMMARY:Schwanstetten\,  AN ERMINIG-musique celtique de Bretagne
DESCRIPTION:Schwanstetten\,  AN ERMINIG-musique celtique de Bretagne\nhttps
 ://folkerkalender.de/events/schwanstetten-an-erminig-musique-celtique-de-br
 etagne/
URL:https://folkerkalender.de/events/schwanstetten-an-erminig-musique-celtique-de-bretagne/
END:VEVENT
END:VCALENDAR