BEGIN:VCALENDAR
VERSION:2.0
PRODID:-//eventon.com NONSGML v1.0//EN
CALSCALE:GREGORIAN
METHOD:PUBLISH
BEGIN:VEVENT
UID:69e7351fb13eb
DTSTAMP:20260421T082815Z
DTSTART:20260717T163000Z
DTEND:20260717T183000Z
LOCATION:
SUMMARY:Schifferstadt\,  Picknick-Konzert
DESCRIPTION:Schifferstadt\,  Picknick-Konzert\nhttps://folkerkalender.de/ev
 ents/schifferstadt-picknick-konzert/
URL:https://folkerkalender.de/events/schifferstadt-picknick-konzert/
END:VEVENT
END:VCALENDAR