BEGIN:VCALENDAR
VERSION:2.0
PRODID:-//eventon.com NONSGML v1.0//EN
CALSCALE:GREGORIAN
METHOD:PUBLISH
BEGIN:VEVENT
UID:69e734f9d0f15
DTSTAMP:20260421T082737Z
DTSTART:20260711T180000Z
DTEND:20260711T210000Z
LOCATION:Bad Wünnenberg\,  Heimatscheune\,  Kunst &amp; Kultur e.V. Heimatscheune\,  Stadtring 8\,  33181 Bad Wünnenberg\,  Deutschland
SUMMARY:Bad Wünnenberg\,  SCHEUNEN-FOLK mit Tante Friedl
DESCRIPTION:Mit Akkordeon\,  Banjo und ihren kraftvollen Stimmen kreieren D
 an Wall aus New York State und Magdalena Kriss aus Bayern packende Interpre
 tationen von Root-Musik aus Mitteleuropa\,  dem Balkan und Nordamerika. Lie
 der und Geschichten\,  die Einblicke in andere Kulturen gewähren &#8211; u
 nd das durchaus humorvoll! Ab 19 Uhr sind der historische Speicher[..]\nhtt
 ps://folkerkalender.de/events/bad-wuennenberg-scheunen-folk-mit-tante-fried
 l/
URL:https://folkerkalender.de/events/bad-wuennenberg-scheunen-folk-mit-tante-friedl/
END:VEVENT
END:VCALENDAR