BEGIN:VCALENDAR
VERSION:2.0
PRODID:-//eventon.com NONSGML v1.0//EN
CALSCALE:GREGORIAN
METHOD:PUBLISH
BEGIN:VEVENT
UID:69ed21a64da72
DTSTAMP:20260425T201846Z
DTSTART:20260503T150000Z
DTEND:20260503T215900Z
LOCATION:Neuwied\,  Saal der Brüdergemeine Friedrichstr. 43\,  56564 Neuwied
SUMMARY:Neuwied\,  Tangoyim - Klezmer und jiddische Lieder
DESCRIPTION:Neuwied\,  Tangoyim - Klezmer und jiddische Lieder\nhttps://fol
 kerkalender.de/events/neuwied-tangoyim-klezmer-und-jiddische-lieder/
URL:https://folkerkalender.de/events/neuwied-tangoyim-klezmer-und-jiddische-lieder/
END:VEVENT
END:VCALENDAR