BEGIN:VCALENDAR
VERSION:2.0
PRODID:-//eventon.com NONSGML v1.0//EN
CALSCALE:GREGORIAN
METHOD:PUBLISH
BEGIN:VEVENT
UID:69ed21b922c2c
DTSTAMP:20260425T201905Z
DTSTART:20260510T150000Z
DTEND:20260510T215900Z
LOCATION:Hückeswagen\,  Kulturhaus Zach Islandstraße 5-7\,  42499 Hückeswagen
SUMMARY:Hückeswagen\,  Trio Mélo\,  Chansons und Musette
DESCRIPTION:Hückeswagen\,  Trio Mélo\,  Chansons und Musette\nhttps://fol
 kerkalender.de/events/hueckeswagen-trio-melo-chansons-und-musette/
URL:https://folkerkalender.de/events/hueckeswagen-trio-melo-chansons-und-musette/
END:VEVENT
END:VCALENDAR