BEGIN:VCALENDAR
VERSION:2.0
PRODID:-//eventon.com NONSGML v1.0//EN
CALSCALE:GREGORIAN
METHOD:PUBLISH
BEGIN:VEVENT
UID:69ed215104a31
DTSTAMP:20260425T201721Z
DTSTART:20260704T180000Z
DTEND:20260704T203000Z
LOCATION:Bützow\,  Alte Badeanstalt An der Bleiche\,  18246 Bützow\,  Bützow 18246
SUMMARY:Bützow\,  Keimzeit Tour "Ach\,  die Menschen" OpenAir
DESCRIPTION:Alte Badeanstalt Bützow An der Bleiche 18246 Bützow Einlass: 
 18.30 Uhr Beginn: 20.00 Uhr\nhttps://folkerkalender.de/events/buetzow-keimz
 eit-2026-die-tour-zum-neuen-album/
URL:https://folkerkalender.de/events/buetzow-keimzeit-2026-die-tour-zum-neuen-album/
END:VEVENT
END:VCALENDAR