BEGIN:VCALENDAR
VERSION:2.0
PRODID:-//eventon.com NONSGML v1.0//EN
CALSCALE:GREGORIAN
METHOD:PUBLISH
BEGIN:VEVENT
UID:69ed201f3cb49
DTSTAMP:20260425T201215Z
DTSTART:20260709T170000Z
DTEND:20260709T190000Z
LOCATION:Bietigheim-Bissingen\,  Marktplatz-Arkaden
SUMMARY:Bietigheim-Bissingen
DESCRIPTION:Bietigheim-Bissingen\nhttps://folkerkalender.de/events/bietighe
 im-bissingen/
URL:https://folkerkalender.de/events/bietigheim-bissingen/
END:VEVENT
END:VCALENDAR