BEGIN:VCALENDAR
VERSION:2.0
PRODID:-//eventon.com NONSGML v1.0//EN
CALSCALE:GREGORIAN
METHOD:PUBLISH
BEGIN:VEVENT
UID:69ed21a64b273
DTSTAMP:20260425T201846Z
DTSTART:20260607T150000Z
DTEND:20260607T160000Z
LOCATION:Jena\,  Folk Club im KuBuS Theobald-Renner-Str. 1a\,  07747 Jena Lobeda
SUMMARY:Jena\,  Sveriges Vänner – Schwedischer Folk
DESCRIPTION:Zwei Musiker aus dem Leipziger Neuseenland präsentieren Musik 
 aus dem fernen Land der 1000 Seen.&nbsp;Das Duo „Sveriges Vänner“ spie
 lt ganz frisch alte traditionelle schwedische Tänze und Lieder und ganz ne
 benbei erfährt man einige Geschichten aus dem sagenumwobenen Land. Mit dia
 tonischem Akkordeon\,  Flöten\,  Rahmentrommel und Gesang laden die alten 
 kraftvollen Weisen[..]\nhttps://folkerkalender.de/events/jena-sveriges-vaen
 ner-schwedischer-folk/
URL:https://folkerkalender.de/events/jena-sveriges-vaenner-schwedischer-folk/
END:VEVENT
END:VCALENDAR