BEGIN:VCALENDAR
VERSION:2.0
PRODID:-//eventon.com NONSGML v1.0//EN
CALSCALE:GREGORIAN
METHOD:PUBLISH
BEGIN:VEVENT
UID:69ed2029289e3
DTSTAMP:20260425T201225Z
DTSTART:20260508T180000Z
DTEND:20260508T200000Z
LOCATION:Dornbirn\,  Spielboden Färbergasse 15\,  6850 Dornbirn\,  Österreich
SUMMARY:Dornbirn\,  Akkordeonale
DESCRIPTION:Dornbirn\,  Akkordeonale\nhttps://folkerkalender.de/events/dorn
 birn-akkordeonale/
URL:https://folkerkalender.de/events/dornbirn-akkordeonale/
END:VEVENT
END:VCALENDAR