BEGIN:VCALENDAR
VERSION:2.0
PRODID:-//eventon.com NONSGML v1.0//EN
CALSCALE:GREGORIAN
METHOD:PUBLISH
BEGIN:VEVENT
UID:69e74914843b9
DTSTAMP:20260421T095324Z
DTSTART:20260505T180000Z
DTEND:20260505T200000Z
LOCATION:Mainz\,  Frankfurter Hof Augustinerstraße 55\,  55116 Mainz
SUMMARY:Mainz\,  Akkordeonale
DESCRIPTION:Mainz\,  Akkordeonale\nhttps://folkerkalender.de/events/mainz-a
 kkordeonale/
URL:https://folkerkalender.de/events/mainz-akkordeonale/
END:VEVENT
END:VCALENDAR