BEGIN:VCALENDAR
VERSION:2.0
PRODID:-//eventon.com NONSGML v1.0//EN
CALSCALE:GREGORIAN
METHOD:PUBLISH
BEGIN:VEVENT
UID:69e7349d74acd
DTSTAMP:20260421T082605Z
DTSTART:20260424T180000Z
DTEND:20260424T200000Z
LOCATION:Bad Bergzabern\,  Haus des Gastes
SUMMARY:Bad Bergzabern\,  Akkordeonale
DESCRIPTION:Bad Bergzabern\,  Akkordeonale\nhttps://folkerkalender.de/event
 s/bad-bergzabern-akkordeonale/
URL:https://folkerkalender.de/events/bad-bergzabern-akkordeonale/
END:VEVENT
END:VCALENDAR