BEGIN:VCALENDAR
VERSION:2.0
PRODID:-//eventon.com NONSGML v1.0//EN
CALSCALE:GREGORIAN
METHOD:PUBLISH
BEGIN:VEVENT
UID:69ed21a285a10
DTSTAMP:20260425T201842Z
DTSTART:20260502T091500Z
DTEND:20260502T215900Z
LOCATION:Hamm\,  Pauluskirche Marktplatz 16\,  59065 Hamm
SUMMARY:Hamm\,  Tangoyim - Musik zur Marktzeit
DESCRIPTION:Eintritt frei\,  Kollekte\nhttps://folkerkalender.de/events/ham
 m-tangoyim-musik-zur-marktzeit/
URL:https://folkerkalender.de/events/hamm-tangoyim-musik-zur-marktzeit/
END:VEVENT
END:VCALENDAR