BEGIN:VCALENDAR
VERSION:2.0
PRODID:-//eventon.com NONSGML v1.0//EN
CALSCALE:GREGORIAN
METHOD:PUBLISH
BEGIN:VEVENT
UID:69ed20258b46f
DTSTAMP:20260425T201221Z
DTSTART:20260507T180000Z
DTEND:20260507T203000Z
LOCATION:München\,  Strom Lindwurmstraße 88\,  80337 München\,  München 80337
SUMMARY:München\,  Keimzeit Tour "Ach\,  die Menschen"
DESCRIPTION:Strom Lindwurmstraße 88 80337 München Einlass: 19.00 Uhr Begi
 nn: 20.00 Uhr\nhttps://folkerkalender.de/events/muenchen-keimzeit-im-strom/
URL:https://folkerkalender.de/events/muenchen-keimzeit-im-strom/
END:VEVENT
END:VCALENDAR